BEGIN:VCALENDAR
VERSION:2.0
PRODID:-//Haus Peters - ECPv6.15.20//NONSGML v1.0//EN
CALSCALE:GREGORIAN
METHOD:PUBLISH
X-ORIGINAL-URL:https://hauspeters.info
X-WR-CALDESC:Veranstaltungen für Haus Peters
REFRESH-INTERVAL;VALUE=DURATION:PT1H
X-Robots-Tag:noindex
X-PUBLISHED-TTL:PT1H
BEGIN:VTIMEZONE
TZID:Europe/Berlin
BEGIN:DAYLIGHT
TZOFFSETFROM:+0100
TZOFFSETTO:+0200
TZNAME:CEST
DTSTART:20230326T010000
END:DAYLIGHT
BEGIN:STANDARD
TZOFFSETFROM:+0200
TZOFFSETTO:+0100
TZNAME:CET
DTSTART:20231029T010000
END:STANDARD
BEGIN:DAYLIGHT
TZOFFSETFROM:+0100
TZOFFSETTO:+0200
TZNAME:CEST
DTSTART:20240331T010000
END:DAYLIGHT
BEGIN:STANDARD
TZOFFSETFROM:+0200
TZOFFSETTO:+0100
TZNAME:CET
DTSTART:20241027T010000
END:STANDARD
BEGIN:DAYLIGHT
TZOFFSETFROM:+0100
TZOFFSETTO:+0200
TZNAME:CEST
DTSTART:20250330T010000
END:DAYLIGHT
BEGIN:STANDARD
TZOFFSETFROM:+0200
TZOFFSETTO:+0100
TZNAME:CET
DTSTART:20251026T010000
END:STANDARD
END:VTIMEZONE
BEGIN:VEVENT
DTSTART;TZID=Europe/Berlin:20240618T100000
DTEND;TZID=Europe/Berlin:20240618T130000
DTSTAMP:20260425T015156
CREATED:20240528T192303Z
LAST-MODIFIED:20240529T081121Z
UID:3626-1718704800-1718715600@hauspeters.info
SUMMARY:ROSENWOCHE - Kurs: Gesunde Rosen und Begleitstauden
DESCRIPTION:Vielfalt im Rosenbeet: „Wir stellen Ihnen robuste\, gesunde Rosen vor\, die Sie mit einer langen Blütezeit erfreuen. Sie lernen\, wie Sie die Rosen mit passenden Stauden in Szene setzen und durch eine naturnahe Gestaltung einen Lebensraum für zahlreiche Insekten\, Vögel und Kleinsäuger schaffen.“ \nConni Bieber und Susanne Apitz sind erfahrene Gärtnerinnen und beraten wie schon im letzten Jahr in diesem Kurs über eine sinnvolle und standortangepasste Zusammenstellung der Pflanzen. \nEine Anmeldung ist erforderlich.
URL:https://hauspeters.info/event/rosenwoche-kurs-gesunde-rosen-und-begleitstauden/
LOCATION:Garten Haus Peters\, Dörpstraat 16\, Tetenbüll\, 25882\, Deutschland
CATEGORIES:Kurs
ATTACH;FMTTYPE=image/jpeg:https://hauspeters.info/wp-content/uploads/2024/05/ConniSus-scaled.jpg
ORGANIZER;CN="K%C3%BCstenklee - Conni Bieber":MAILTO:info@küstenklee.de
END:VEVENT
END:VCALENDAR