BEGIN:VCALENDAR
VERSION:2.0
PRODID:-//Haus Peters - ECPv6.15.20//NONSGML v1.0//EN
CALSCALE:GREGORIAN
METHOD:PUBLISH
X-WR-CALNAME:Haus Peters
X-ORIGINAL-URL:https://hauspeters.info
X-WR-CALDESC:Veranstaltungen für Haus Peters
REFRESH-INTERVAL;VALUE=DURATION:PT1H
X-Robots-Tag:noindex
X-PUBLISHED-TTL:PT1H
BEGIN:VTIMEZONE
TZID:Europe/Berlin
BEGIN:DAYLIGHT
TZOFFSETFROM:+0100
TZOFFSETTO:+0200
TZNAME:CEST
DTSTART:20230326T010000
END:DAYLIGHT
BEGIN:STANDARD
TZOFFSETFROM:+0200
TZOFFSETTO:+0100
TZNAME:CET
DTSTART:20231029T010000
END:STANDARD
BEGIN:DAYLIGHT
TZOFFSETFROM:+0100
TZOFFSETTO:+0200
TZNAME:CEST
DTSTART:20240331T010000
END:DAYLIGHT
BEGIN:STANDARD
TZOFFSETFROM:+0200
TZOFFSETTO:+0100
TZNAME:CET
DTSTART:20241027T010000
END:STANDARD
BEGIN:DAYLIGHT
TZOFFSETFROM:+0100
TZOFFSETTO:+0200
TZNAME:CEST
DTSTART:20250330T010000
END:DAYLIGHT
BEGIN:STANDARD
TZOFFSETFROM:+0200
TZOFFSETTO:+0100
TZNAME:CET
DTSTART:20251026T010000
END:STANDARD
BEGIN:DAYLIGHT
TZOFFSETFROM:+0100
TZOFFSETTO:+0200
TZNAME:CEST
DTSTART:20260329T010000
END:DAYLIGHT
BEGIN:STANDARD
TZOFFSETFROM:+0200
TZOFFSETTO:+0100
TZNAME:CET
DTSTART:20261025T010000
END:STANDARD
END:VTIMEZONE
BEGIN:VEVENT
DTSTART;VALUE=DATE:20241004
DTEND;VALUE=DATE:20250226
DTSTAMP:20260422T193441
CREATED:20240627T221209Z
LAST-MODIFIED:20250226T085634Z
UID:3762-1728000000-1740527999@hauspeters.info
SUMMARY:Horst-Janssen-Menue im Haus Peters (Terminverschiebung!)
DESCRIPTION:Eine Benefizveranstaltung zugunsten des Haus Peters: Exklusive Veranstaltung mit Abendessen und Begleitprogramm. Der geniale Künstler Horst Janssen hatte ein Lieblingsmenü\, das wir Ihnen inmitten unserer Ausstellung servieren werden. Natürlich darf sein Lieblingschampagner für alle Tage nicht fehlen: Pommery. Angelika Gerlach\, langjährige Leiterin der Janssen-Bibliothek in Hamburg führt Sie durch den Abend mit vielen Geschichten und kulinarischen Anekdoten rund um Horst Janssen. \nIm Benefitz-Preis für die Veranstaltung mit 4-Gänge-Menü inbegriffen ist eine Spende an das Haus Peters und ein Glas Pommery Champagner\, weitere Tischgetränke werden extra berechnet. \nInformationen und Anmeldung bitte per Mail an post@hauspeters.info \nAchtung: Die Veranstaltung findet nicht wie geplant am 4.10. statt\, sondern zu einem späteren Zeitpunkt.  \nBei Interesse bitte per Email erfragen: post@hauspeters.info 
URL:https://hauspeters.info/event/janssen-menue-im-haus-peters/
LOCATION:Museum Haus Peters\, Dörpstraat 16\, Tetenbüll\, 25882\, Deutschland
CATEGORIES:Besonderes
ATTACH;FMTTYPE=image/png:https://hauspeters.info/wp-content/uploads/2024/06/Menue-Horst-Janssen-24.png
ORGANIZER;CN="F%C3%B6rderverein Haus Peters Tetenb%C3%BCll e. V.":MAILTO:post@hauspeters.info
END:VEVENT
BEGIN:VEVENT
DTSTART;TZID=Europe/Berlin:20241020T150000
DTEND;TZID=Europe/Berlin:20241020T160000
DTSTAMP:20260422T193441
CREATED:20240930T165409Z
LAST-MODIFIED:20240930T165446Z
UID:3976-1729436400-1729440000@hauspeters.info
SUMMARY:Teestunde mit Lesung: Angelika Rölke
DESCRIPTION:Am Sonntag den 20.10. startet im Haus Peters in Tetenbüll wieder die Winter-Reihe „Teestunde mit Lesung“. Diese findet bei einer guten Tasse Darjeeling-Tee aus dem Samowar jeden 3. Sonntag im Monat jeweils um 15 Uhr von Oktober bis März statt.  \nDen Auftakt macht in diesem Jahr Angelika Rölke aus Poppenbüll. Als Mitglied der „Textwerkstatt Eiderstedt“ schreibt sie seit Jahren Kurzgeschichten und hat diese auch schon in der Teestunde vorgetragen.  \nEine Anmeldung ist angeraten (04862-681). Der Eintritt ist frei\, die Künstlerin freut sich aber über eine kleine Hutgage.
URL:https://hauspeters.info/event/teestunde-mit-lesung/
LOCATION:Museum Haus Peters\, Dörpstraat 16\, Tetenbüll\, 25882\, Deutschland
CATEGORIES:Lesung
ATTACH;FMTTYPE=image/jpeg:https://hauspeters.info/wp-content/uploads/2023/01/IMG_5610-scaled-e1673824703873.jpg
ORGANIZER;CN="F%C3%B6rderverein Haus Peters Tetenb%C3%BCll e. V.":MAILTO:post@hauspeters.info
END:VEVENT
END:VCALENDAR