BEGIN:VCALENDAR
VERSION:2.0
PRODID:-//Haus Peters - ECPv6.15.20//NONSGML v1.0//EN
CALSCALE:GREGORIAN
METHOD:PUBLISH
X-ORIGINAL-URL:https://hauspeters.info
X-WR-CALDESC:Veranstaltungen für Haus Peters
REFRESH-INTERVAL;VALUE=DURATION:PT1H
X-Robots-Tag:noindex
X-PUBLISHED-TTL:PT1H
BEGIN:VTIMEZONE
TZID:Europe/Berlin
BEGIN:DAYLIGHT
TZOFFSETFROM:+0100
TZOFFSETTO:+0200
TZNAME:CEST
DTSTART:20250330T010000
END:DAYLIGHT
BEGIN:STANDARD
TZOFFSETFROM:+0200
TZOFFSETTO:+0100
TZNAME:CET
DTSTART:20251026T010000
END:STANDARD
BEGIN:DAYLIGHT
TZOFFSETFROM:+0100
TZOFFSETTO:+0200
TZNAME:CEST
DTSTART:20260329T010000
END:DAYLIGHT
BEGIN:STANDARD
TZOFFSETFROM:+0200
TZOFFSETTO:+0100
TZNAME:CET
DTSTART:20261025T010000
END:STANDARD
BEGIN:DAYLIGHT
TZOFFSETFROM:+0100
TZOFFSETTO:+0200
TZNAME:CEST
DTSTART:20270328T010000
END:DAYLIGHT
BEGIN:STANDARD
TZOFFSETFROM:+0200
TZOFFSETTO:+0100
TZNAME:CET
DTSTART:20271031T010000
END:STANDARD
END:VTIMEZONE
BEGIN:VEVENT
DTSTART;TZID=Europe/Berlin:20260501T180000
DTEND;TZID=Europe/Berlin:20260501T200000
DTSTAMP:20260426T024331
CREATED:20260307T073617Z
LAST-MODIFIED:20260307T075419Z
UID:4957-1777658400-1777665600@hauspeters.info
SUMMARY:Hand-Lettering-Kurs zum Muttertag
DESCRIPTION:  \nZum Muttertag  \nAm 1.5.26 wird um 18 Uhr im Haus Peters wieder ein „Hand-Lettering“-Kurs angeboten\, bei dem schnell und einfach schöne Karten und Geschenkanhänger entstehen. Kleine Aufmerksamkeiten sind besonders liebevoll\, wenn sie selbst gemacht sind. Ein „Dankeschön“ oder „Du bist die Beste“ kommt  handgeschrieben noch besser! Wir gestalten kleine Kärtchen\, Anhänger\, Faltheftchen für einen lieben Gruß an alle Mütter! In netter Runde und historischer Atmosphäre. \nMaterial wird gestellt\, kann aber auch mitgebracht werden. \nWeitere Informationen und verbindliche Anmeldung hier oder an post@hauspeters.info 
URL:https://hauspeters.info/event/hand-lettering-kurs-zum-muttertag/
LOCATION:Museum Haus Peters\, Dörpstraat 16\, Tetenbüll\, 25882\, Deutschland
CATEGORIES:Kurs
ATTACH;FMTTYPE=image/jpeg:https://hauspeters.info/wp-content/uploads/2026/03/IMG_4502-scaled.jpg
ORGANIZER;CN="F%C3%B6rderverein Haus Peters Tetenb%C3%BCll e. V.":MAILTO:post@hauspeters.info
END:VEVENT
END:VCALENDAR