BEGIN:VCALENDAR
VERSION:2.0
PRODID:-//Haus Peters - ECPv6.15.20//NONSGML v1.0//EN
CALSCALE:GREGORIAN
METHOD:PUBLISH
X-ORIGINAL-URL:https://hauspeters.info
X-WR-CALDESC:Veranstaltungen für Haus Peters
REFRESH-INTERVAL;VALUE=DURATION:PT1H
X-Robots-Tag:noindex
X-PUBLISHED-TTL:PT1H
BEGIN:VTIMEZONE
TZID:Europe/Berlin
BEGIN:DAYLIGHT
TZOFFSETFROM:+0100
TZOFFSETTO:+0200
TZNAME:CEST
DTSTART:20230326T010000
END:DAYLIGHT
BEGIN:STANDARD
TZOFFSETFROM:+0200
TZOFFSETTO:+0100
TZNAME:CET
DTSTART:20231029T010000
END:STANDARD
BEGIN:DAYLIGHT
TZOFFSETFROM:+0100
TZOFFSETTO:+0200
TZNAME:CEST
DTSTART:20240331T010000
END:DAYLIGHT
BEGIN:STANDARD
TZOFFSETFROM:+0200
TZOFFSETTO:+0100
TZNAME:CET
DTSTART:20241027T010000
END:STANDARD
BEGIN:DAYLIGHT
TZOFFSETFROM:+0100
TZOFFSETTO:+0200
TZNAME:CEST
DTSTART:20250330T010000
END:DAYLIGHT
BEGIN:STANDARD
TZOFFSETFROM:+0200
TZOFFSETTO:+0100
TZNAME:CET
DTSTART:20251026T010000
END:STANDARD
END:VTIMEZONE
BEGIN:VEVENT
DTSTART;TZID=Europe/Berlin:20240602T150000
DTEND;TZID=Europe/Berlin:20240602T170000
DTSTAMP:20260423T202252
CREATED:20240419T151144Z
LAST-MODIFIED:20240530T184553Z
UID:3532-1717340400-1717347600@hauspeters.info
SUMMARY:Ausstellungseröffnung: Uta Masch - in SICHT verortet
DESCRIPTION:Zur Vernissage sind alle Freunde und Förderer des Haus Peters herzlich eingeladen. \nNach einer Begrüßung durch die Museumsleiterin\, wird Rüdiger Otto-von Brocken eine kundige Einführung in das Werk von Uta Masch geben. \n„Im Draußen atme ich die Natur ein\, im Atelier male ich sie aus“ \nEinem nordischen Impressionismus folgend entstehen mit zügigem\, manchmal ungeduldigen Strich die abstrahierten Landschaften. Das erlaubt Uta Masch\, mittendrin im Motiv zu sein. Dabei vernachlässigt sie bewusst Details. Die atmosphärische Gesamtwirkung übernimmt die Vervollständigung des Bildes. Meist bewegt sie sich dabei in einer von erdigem Grau geprägten Farbpalette. Mit ihren Werken möchte sie den Betrachter an ihrer Wertschätzung zum Leben in und mit der Natur teilhaben lassen und ihn für seine unmittelbare Umgebung begeistern. \n 
URL:https://hauspeters.info/event/ausstellungseroeffnung-uta-masch-in-sicht-verortet/
LOCATION:Museum Haus Peters\, Dörpstraat 16\, Tetenbüll\, 25882\, Deutschland
CATEGORIES:Ausstellung
ATTACH;FMTTYPE=image/jpeg:https://hauspeters.info/wp-content/uploads/2024/04/steinig_40x40_2023_rgb-scaled.jpg
ORGANIZER;CN="F%C3%B6rderverein Haus Peters Tetenb%C3%BCll e. V.":MAILTO:post@hauspeters.info
END:VEVENT
BEGIN:VEVENT
DTSTART;TZID=Europe/Berlin:20240616T140000
DTEND;TZID=Europe/Berlin:20240616T150000
DTSTAMP:20260423T202252
CREATED:20240528T193822Z
LAST-MODIFIED:20240530T091521Z
UID:3637-1718546400-1718550000@hauspeters.info
SUMMARY:ROSENWOCHE - Präsentation des "Audiowalks für den Museumsgarten"
DESCRIPTION:Heute präsentieren wir unseren neuen Audiowalk für den Museumsgarten. Dieser Audio Walk lädt zum Spazieren durch den Garten des Hauses ein. An zehn Hörstationen erzählen wir kleine Geschichten über unseren Bauerngarten mit seinen typischen Stauden und einer Sammlung historischer Rosensorten. Wir stellen Ihnen unsere schönsten Rosen vor und plaudern ein wenig über Bauerngärten in Norddeutschland. \nMit unserem Audioguide möchten wir den Garten für unsere Besucher noch besser erschließen und auch als Hörerlebnis zugänglich machen.  Gefördert – und dadurch erst möglich gemacht – wurde dieses Projekt von „Bingo! Die Umweltlotterie in Schleswig-Holstein“. \nHier geht es zum Beitrag auf der Webseite
URL:https://hauspeters.info/event/rosenwoche-praesentation-des-audiowalks-fuer-den-museumsgarten/
LOCATION:Garten Haus Peters\, Dörpstraat 16\, Tetenbüll\, 25882\, Deutschland
CATEGORIES:Vortrag
ATTACH;FMTTYPE=image/jpeg:https://hauspeters.info/wp-content/uploads/2023/02/Rosenfoto-generisch-Alte-Rose-Bluete-e1716932955599.jpg
ORGANIZER;CN="F%C3%B6rderverein Haus Peters Tetenb%C3%BCll e. V.":MAILTO:post@hauspeters.info
END:VEVENT
BEGIN:VEVENT
DTSTART;TZID=Europe/Berlin:20240618T100000
DTEND;TZID=Europe/Berlin:20240618T130000
DTSTAMP:20260423T202252
CREATED:20240528T192303Z
LAST-MODIFIED:20240529T081121Z
UID:3626-1718704800-1718715600@hauspeters.info
SUMMARY:ROSENWOCHE - Kurs: Gesunde Rosen und Begleitstauden
DESCRIPTION:Vielfalt im Rosenbeet: „Wir stellen Ihnen robuste\, gesunde Rosen vor\, die Sie mit einer langen Blütezeit erfreuen. Sie lernen\, wie Sie die Rosen mit passenden Stauden in Szene setzen und durch eine naturnahe Gestaltung einen Lebensraum für zahlreiche Insekten\, Vögel und Kleinsäuger schaffen.“ \nConni Bieber und Susanne Apitz sind erfahrene Gärtnerinnen und beraten wie schon im letzten Jahr in diesem Kurs über eine sinnvolle und standortangepasste Zusammenstellung der Pflanzen. \nEine Anmeldung ist erforderlich.
URL:https://hauspeters.info/event/rosenwoche-kurs-gesunde-rosen-und-begleitstauden/
LOCATION:Garten Haus Peters\, Dörpstraat 16\, Tetenbüll\, 25882\, Deutschland
CATEGORIES:Kurs
ATTACH;FMTTYPE=image/jpeg:https://hauspeters.info/wp-content/uploads/2024/05/ConniSus-scaled.jpg
ORGANIZER;CN="K%C3%BCstenklee - Conni Bieber":MAILTO:info@küstenklee.de
END:VEVENT
BEGIN:VEVENT
DTSTART;TZID=Europe/Berlin:20240618T140000
DTEND;TZID=Europe/Berlin:20240621T170000
DTSTAMP:20260423T202252
CREATED:20240528T214328Z
LAST-MODIFIED:20240528T215037Z
UID:3646-1718719200-1718989200@hauspeters.info
SUMMARY:ROSENWOCHE - Mobiles Seifenmuseum
DESCRIPTION:Geschichten zu historischen und modernen Seifen – erzählt von Kerstin Ferchen.
URL:https://hauspeters.info/event/rosenwoche-mobiles-seifenmuseum/
LOCATION:Garten Haus Peters\, Dörpstraat 16\, Tetenbüll\, 25882\, Deutschland
CATEGORIES:Vortrag
ATTACH;FMTTYPE=image/jpeg:https://hauspeters.info/wp-content/uploads/2024/05/IMG_7407.jpg
ORGANIZER;CN="Badesalz&Seife - Kerstin Ferchen":MAILTO:badesalzundseife@gmail.com
END:VEVENT
BEGIN:VEVENT
DTSTART;TZID=Europe/Berlin:20240621T103000
DTEND;TZID=Europe/Berlin:20240621T123000
DTSTAMP:20260423T202252
CREATED:20240528T200224Z
LAST-MODIFIED:20240528T200224Z
UID:3643-1718965800-1718973000@hauspeters.info
SUMMARY:ROSENWOCHE - Fotokurs "Rosengarten"
DESCRIPTION:Im Fotokurs „Rosengarten“ zeigt der Fotograf Ralf Reinmuth den richtige Umgang mit Handy und Kamera\, um beste Rosenportraits zu erhalten.  \nAnmeldung: info@kuestenfocus.de oder 04862 – 201 22 80
URL:https://hauspeters.info/event/rosenwoche-fotokurs-rosengarten/
LOCATION:Garten Haus Peters\, Dörpstraat 16\, Tetenbüll\, 25882\, Deutschland
CATEGORIES:Kurs
ATTACH;FMTTYPE=image/jpeg:https://hauspeters.info/wp-content/uploads/2023/02/Rosenfoto-Rosa-Fatin-Latour-Bluete-e1748334005299.jpg
ORGANIZER;CN="Galerie K%C3%BCstenfocus":MAILTO:info@kuestenfocus.de
END:VEVENT
END:VCALENDAR