BEGIN:VCALENDAR
VERSION:2.0
PRODID:-//Haus Peters - ECPv6.15.20//NONSGML v1.0//EN
CALSCALE:GREGORIAN
METHOD:PUBLISH
X-WR-CALNAME:Haus Peters
X-ORIGINAL-URL:https://hauspeters.info
X-WR-CALDESC:Veranstaltungen für Haus Peters
REFRESH-INTERVAL;VALUE=DURATION:PT1H
X-Robots-Tag:noindex
X-PUBLISHED-TTL:PT1H
BEGIN:VTIMEZONE
TZID:Europe/Berlin
BEGIN:DAYLIGHT
TZOFFSETFROM:+0100
TZOFFSETTO:+0200
TZNAME:CEST
DTSTART:20230326T010000
END:DAYLIGHT
BEGIN:STANDARD
TZOFFSETFROM:+0200
TZOFFSETTO:+0100
TZNAME:CET
DTSTART:20231029T010000
END:STANDARD
BEGIN:DAYLIGHT
TZOFFSETFROM:+0100
TZOFFSETTO:+0200
TZNAME:CEST
DTSTART:20240331T010000
END:DAYLIGHT
BEGIN:STANDARD
TZOFFSETFROM:+0200
TZOFFSETTO:+0100
TZNAME:CET
DTSTART:20241027T010000
END:STANDARD
BEGIN:DAYLIGHT
TZOFFSETFROM:+0100
TZOFFSETTO:+0200
TZNAME:CEST
DTSTART:20250330T010000
END:DAYLIGHT
BEGIN:STANDARD
TZOFFSETFROM:+0200
TZOFFSETTO:+0100
TZNAME:CET
DTSTART:20251026T010000
END:STANDARD
END:VTIMEZONE
BEGIN:VEVENT
DTSTART;TZID=Europe/Berlin:20240803T130000
DTEND;TZID=Europe/Berlin:20240804T180000
DTSTAMP:20260423T165223
CREATED:20240626T165144Z
LAST-MODIFIED:20240626T170755Z
UID:3717-1722690000-1722794400@hauspeters.info
SUMMARY:Schmetterlingstage mit Kunsthandwerkermarkt
DESCRIPTION:Am 1. Wochenende im August sind die Schmetterlinge im Garten des Haus Peters zu Gast. Wir bieten Informationen rund um den insektenfreundlichen Garten und auch die Kunsthandwerker lassen sich gerne inspirieren vom Motto des Wochenendes. Mal- und Bastelaktionen für Kinder werden ebenfalls angeboten. \nSamstag und Sonntag jeweils von 13-18 Uhr \nAchtung am 3.8. findet außerdem die „Lange Nacht der Gärten“ statt – siehe eigener Veranstaltungseintrag!
URL:https://hauspeters.info/event/schmetterlingstage-mit-kunsthandwerkermarkt/
LOCATION:Garten Haus Peters\, Dörpstraat 16\, Tetenbüll\, 25882\, Deutschland
CATEGORIES:Kunsthandwerkermarkt,Thementag
ATTACH;FMTTYPE=image/jpeg:https://hauspeters.info/wp-content/uploads/2022/08/IMG_7754-edited.jpg
ORGANIZER;CN="F%C3%B6rderverein Haus Peters Tetenb%C3%BCll e. V.":MAILTO:post@hauspeters.info
END:VEVENT
BEGIN:VEVENT
DTSTART;TZID=Europe/Berlin:20240803T190000
DTEND;TZID=Europe/Berlin:20240803T220000
DTSTAMP:20260423T165223
CREATED:20240626T170706Z
LAST-MODIFIED:20240626T170706Z
UID:3721-1722711600-1722722400@hauspeters.info
SUMMARY:Lange Nacht der Gärten
DESCRIPTION:Zum ersten Mal beteiligt sich das Haus Peters an der „Langen Nacht der Gärten“\, die im Rahmen der „Offenen Gärten in Schleswig-Holstein“ angeboten wird. \nWir haben hierzu die Märchenerzählerin Sigrid Nolte Schefold eingeladen\, die um 19 Uhr im Garten die Zuhörerinnen in eine andere Welt mitnimmt. Wenn die Sonne langsam untergeht\, verwandelt sich der Garten mit jeder Minute und am Ende werden viele kleine Lichter ihm eine besondere Atmosphäre verleihen. \nAn einer langen Tafel wollen wir gemeinsam den Abend genießen. Jeder darf etwas mitbringen. Getränke gegen Spende. \n 
URL:https://hauspeters.info/event/lange-nacht-der-gaerten/
LOCATION:Garten Haus Peters\, Dörpstraat 16\, Tetenbüll\, 25882\, Deutschland
CATEGORIES:Thementag
ATTACH;FMTTYPE=image/jpeg:https://hauspeters.info/wp-content/uploads/2022/05/PHOTO-2022-05-26-11-56-27-3.jpg
ORGANIZER;CN="F%C3%B6rderverein Haus Peters Tetenb%C3%BCll e. V.":MAILTO:post@hauspeters.info
END:VEVENT
BEGIN:VEVENT
DTSTART;TZID=Europe/Berlin:20240805T100000
DTEND;TZID=Europe/Berlin:20240805T160000
DTSTAMP:20260423T165223
CREATED:20240627T192003Z
LAST-MODIFIED:20240627T192003Z
UID:3735-1722852000-1722873600@hauspeters.info
SUMMARY:Workshop Illustriertes Reisetagebuch
DESCRIPTION:Die Impressionen einer Reise in Schrift und Skizzen festhalten. Orte und Dinge einfangen\, sich später erinnern\, an Gerüche\, Wetter\, Begegnungen. Das kann man nicht mit dem Fotoapparat\, dazu braucht es ein wenig Muße. \nDie Workshops mit maximal 8 Teilnehmer:innen beginnen im Historischen Kaufmannsladen Haus Peters in Tetenbüll\, dort gibt die Illustratorin und Museumsleiterin Hila Küpper eine kleine Einführung in grundlegende Elemente der grafischen Gestaltung und es folgen erste Übungen zu verschiedenen Schriften. Danach wird bei einem Rundgang durch das Dorf an verschiedenen Stellen Station gemacht\, um besonders schöne Gebäude oder Szenen auf dem Skizzenblock festzuhalten. Nachmittags ist die Kirche mit ihren Kunstschätzen Thema. \nAnmeldung und weitere Informationen gibt es unter https://www.hilaküpper.de
URL:https://hauspeters.info/event/workshop-illustriertes-reisetagebuch-2/
LOCATION:Museum Haus Peters\, Dörpstraat 16\, Tetenbüll\, 25882\, Deutschland
CATEGORIES:Kurs
ATTACH;FMTTYPE=image/jpeg:https://hauspeters.info/wp-content/uploads/2024/04/8D508958-E303-42B6-82C1-80033F68DBF7-e1713537977627.jpg
END:VEVENT
END:VCALENDAR