BEGIN:VCALENDAR
VERSION:2.0
PRODID:-//Haus Peters - ECPv6.15.20//NONSGML v1.0//EN
CALSCALE:GREGORIAN
METHOD:PUBLISH
X-ORIGINAL-URL:https://hauspeters.info
X-WR-CALDESC:Veranstaltungen für Haus Peters
REFRESH-INTERVAL;VALUE=DURATION:PT1H
X-Robots-Tag:noindex
X-PUBLISHED-TTL:PT1H
BEGIN:VTIMEZONE
TZID:Europe/Berlin
BEGIN:DAYLIGHT
TZOFFSETFROM:+0100
TZOFFSETTO:+0200
TZNAME:CEST
DTSTART:20230326T010000
END:DAYLIGHT
BEGIN:STANDARD
TZOFFSETFROM:+0200
TZOFFSETTO:+0100
TZNAME:CET
DTSTART:20231029T010000
END:STANDARD
BEGIN:DAYLIGHT
TZOFFSETFROM:+0100
TZOFFSETTO:+0200
TZNAME:CEST
DTSTART:20240331T010000
END:DAYLIGHT
BEGIN:STANDARD
TZOFFSETFROM:+0200
TZOFFSETTO:+0100
TZNAME:CET
DTSTART:20241027T010000
END:STANDARD
BEGIN:DAYLIGHT
TZOFFSETFROM:+0100
TZOFFSETTO:+0200
TZNAME:CEST
DTSTART:20250330T010000
END:DAYLIGHT
BEGIN:STANDARD
TZOFFSETFROM:+0200
TZOFFSETTO:+0100
TZNAME:CET
DTSTART:20251026T010000
END:STANDARD
BEGIN:DAYLIGHT
TZOFFSETFROM:+0100
TZOFFSETTO:+0200
TZNAME:CEST
DTSTART:20260329T010000
END:DAYLIGHT
BEGIN:STANDARD
TZOFFSETFROM:+0200
TZOFFSETTO:+0100
TZNAME:CET
DTSTART:20261025T010000
END:STANDARD
END:VTIMEZONE
BEGIN:VEVENT
DTSTART;TZID=Europe/Berlin:20240902T100000
DTEND;TZID=Europe/Berlin:20240902T160000
DTSTAMP:20260423T144510
CREATED:20240627T192429Z
LAST-MODIFIED:20240627T192429Z
UID:3737-1725271200-1725292800@hauspeters.info
SUMMARY:Workshop Illustriertes Reisetagebuch
DESCRIPTION:Die Impressionen einer Reise in Schrift und Skizzen festhalten. Orte und Dinge einfangen\, sich später erinnern\, an Gerüche\, Wetter\, Begegnungen. Das kann man nicht mit dem Fotoapparat\, dazu braucht es ein wenig Muße. \nDie Workshops mit maximal 8 Teilnehmer:innen beginnen im Historischen Kaufmannsladen Haus Peters in Tetenbüll\, dort gibt die Illustratorin und Museumsleiterin Hila Küpper eine kleine Einführung in grundlegende Elemente der grafischen Gestaltung und es folgen erste Übungen zu verschiedenen Schriften. Danach wird bei einem Rundgang durch das Dorf an verschiedenen Stellen Station gemacht\, um besonders schöne Gebäude oder Szenen auf dem Skizzenblock festzuhalten. Nachmittags ist die Kirche mit ihren Kunstschätzen Thema. \nAnmeldung und weitere Informationen gibt es unter https://www.hilaküpper.de
URL:https://hauspeters.info/event/workshop-illustriertes-reisetagebuch-3/
LOCATION:Museum Haus Peters\, Dörpstraat 16\, Tetenbüll\, 25882\, Deutschland
CATEGORIES:Kurs
ATTACH;FMTTYPE=image/jpeg:https://hauspeters.info/wp-content/uploads/2024/04/8D508958-E303-42B6-82C1-80033F68DBF7-e1713537977627.jpg
END:VEVENT
BEGIN:VEVENT
DTSTART;TZID=Europe/Berlin:20240908T150000
DTEND;TZID=Europe/Berlin:20240908T170000
DTSTAMP:20260423T144510
CREATED:20240627T185914Z
LAST-MODIFIED:20240627T201531Z
UID:3727-1725807600-1725814800@hauspeters.info
SUMMARY:Finissage der Sommerausstellung mit Uta Masch - Tag des offenen Denkmals
DESCRIPTION:Am Tag des offenen Denkmals geht auch unsere Sommerausstellung zu Ende. Die Künstlerin ist ab ca. 15 Uhr noch einmal vor Ort\, signiert auf Wunsch ihre Kataloge und steht für Fragen gerne zur Verfügung.
URL:https://hauspeters.info/event/finissage-der-sommerausstellung-mit-uta-martens/
LOCATION:Museum Haus Peters\, Dörpstraat 16\, Tetenbüll\, 25882\, Deutschland
ATTACH;FMTTYPE=image/jpeg:https://hauspeters.info/wp-content/uploads/2024/06/IMG_9767-scaled-e1719514965784.jpg
ORGANIZER;CN="F%C3%B6rderverein Haus Peters Tetenb%C3%BCll e. V.":MAILTO:post@hauspeters.info
END:VEVENT
BEGIN:VEVENT
DTSTART;TZID=Europe/Berlin:20240914T130000
DTEND;TZID=Europe/Berlin:20250316T170000
DTSTAMP:20260423T144510
CREATED:20240627T202356Z
LAST-MODIFIED:20250226T133546Z
UID:3752-1726318800-1742144400@hauspeters.info
SUMMARY:Ausstellung verlängert: Horst Janssen zum 95. Geburtstag
DESCRIPTION:Wegen des großen Interesses: Verlängert bis Frühjahr 2025! \nEine kurze Zeit lebte und arbeitete Horst Janssen auch in Eiderstedt und schuf einige landschaftstypische Werke. Die „Eiderlandmappe“ mit 34 Radierungen zeigen wir z. B. in unserem Horst-Janssen-Kabinett als Dauerausstellung. Alle fünf Jahre feiern wir diesen genialen Künstler mit einer großen Ausstellung zu seinem Geburtstag. Gemeinsam mit der Horst-Janssen-Expertin Angelika Gerlach haben wir eine Ausstellung mit besonderen Drucken\, Original-Kunstwerken und abwechslungsreichem Veranstaltungsprogramm zusammengestellt. Ein Schwerpunkt dieser Ausstellung liegt auf dem Kulinarischen\, aber auch die Persönlichkeit Janssens wollen wir den Besuchern näher bringen. \nZur Eröffnung begrüßte Wolfgang Jansen als Vereinsvorsitzender um 15 Uhr die zahlreich erschienen Gäste\, Angelika Gerlach gab danach eine erste Einführung in das vielschichtige Leben dieses norddeutschen Ausnahmekünstlers sowie einen Ausblick auf das umfangreiche Begleitprogramm der Ausstellung: eine Film-Matinee\, einen „Schätznachmittag“\, eine Reise nach Oldenburg in das dortige Janssen-Museum\, ein Janssen-Menü mit literarischer Begleitung\, eine Teestunde mit Janssen-Lesung und noch einiges mehr. \n \nPlakat A4 Janssen-web
URL:https://hauspeters.info/event/ausstellungseroeffnung-horst-janssen-zum-95-geburtstag/
LOCATION:Museum Haus Peters\, Dörpstraat 16\, Tetenbüll\, 25882\, Deutschland
CATEGORIES:Ausstellung
ATTACH;FMTTYPE=application/pdf:https://hauspeters.info/wp-content/uploads/2024/06/Plakat-A4-Janssen-web.pdf
ORGANIZER;CN="F%C3%B6rderverein Haus Peters Tetenb%C3%BCll e. V.":MAILTO:post@hauspeters.info
END:VEVENT
END:VCALENDAR