BEGIN:VCALENDAR
VERSION:2.0
PRODID:-//Haus Peters - ECPv6.15.20//NONSGML v1.0//EN
CALSCALE:GREGORIAN
METHOD:PUBLISH
X-ORIGINAL-URL:https://hauspeters.info
X-WR-CALDESC:Veranstaltungen für Haus Peters
REFRESH-INTERVAL;VALUE=DURATION:PT1H
X-Robots-Tag:noindex
X-PUBLISHED-TTL:PT1H
BEGIN:VTIMEZONE
TZID:Europe/Berlin
BEGIN:DAYLIGHT
TZOFFSETFROM:+0100
TZOFFSETTO:+0200
TZNAME:CEST
DTSTART:20240331T010000
END:DAYLIGHT
BEGIN:STANDARD
TZOFFSETFROM:+0200
TZOFFSETTO:+0100
TZNAME:CET
DTSTART:20241027T010000
END:STANDARD
BEGIN:DAYLIGHT
TZOFFSETFROM:+0100
TZOFFSETTO:+0200
TZNAME:CEST
DTSTART:20250330T010000
END:DAYLIGHT
BEGIN:STANDARD
TZOFFSETFROM:+0200
TZOFFSETTO:+0100
TZNAME:CET
DTSTART:20251026T010000
END:STANDARD
BEGIN:DAYLIGHT
TZOFFSETFROM:+0100
TZOFFSETTO:+0200
TZNAME:CEST
DTSTART:20260329T010000
END:DAYLIGHT
BEGIN:STANDARD
TZOFFSETFROM:+0200
TZOFFSETTO:+0100
TZNAME:CET
DTSTART:20261025T010000
END:STANDARD
END:VTIMEZONE
BEGIN:VEVENT
DTSTART;VALUE=DATE:20250322
DTEND;VALUE=DATE:20250526
DTSTAMP:20260422T235037
CREATED:20250329T090123Z
LAST-MODIFIED:20250329T090400Z
UID:4353-1742601600-1748217599@hauspeters.info
SUMMARY:Kunstausstellung HORIZONTE von Otto Beckmann
DESCRIPTION:Ausstellung mit Malerei des Hamburger Künstlers Otto Beckman vom 22.3.-25.5.2525 \nWeitere Informationen finden sie hier.
URL:https://hauspeters.info/event/kunstausstellung-horizonte-von-otto-beckmann/
LOCATION:Museum Haus Peters\, Dörpstraat 16\, Tetenbüll\, 25882\, Deutschland
CATEGORIES:Ausstellung
ATTACH;FMTTYPE=image/jpeg:https://hauspeters.info/wp-content/uploads/2025/03/Wal-bei-St.-Peter-Acryl-und-Schabung-auf-Leinwand-2025-21-x-21--e1743237970906.jpg
ORGANIZER;CN="F%C3%B6rderverein Haus Peters Tetenb%C3%BCll e. V.":MAILTO:post@hauspeters.info
END:VEVENT
BEGIN:VEVENT
DTSTART;TZID=Europe/Berlin:20250525T150000
DTEND;TZID=Europe/Berlin:20250525T170000
DTSTAMP:20260422T235037
CREATED:20250501T112616Z
LAST-MODIFIED:20250501T112616Z
UID:4425-1748185200-1748192400@hauspeters.info
SUMMARY:Finissage der Ausstellung HORIZONTE mit Otto Beckmann
DESCRIPTION:Zur Finissage wird Otto Beckmann noch einmal durch seine Ausstellung führen und Informationen zu seinen Bildwelten geben. Bis 17 Uhr besteht die Möglichkeit\, noch ein Kunstwerk käuflich zu erwerben.
URL:https://hauspeters.info/event/finissage-der-ausstellung-horizonte-mit-otto-beckmann/
LOCATION:Museum Haus Peters\, Dörpstraat 16\, Tetenbüll\, 25882\, Deutschland
CATEGORIES:Ausstellung
ATTACH;FMTTYPE=image/jpeg:https://hauspeters.info/wp-content/uploads/2025/05/IMG_1842.jpg
ORGANIZER;CN="F%C3%B6rderverein Haus Peters Tetenb%C3%BCll e. V.":MAILTO:post@hauspeters.info
END:VEVENT
BEGIN:VEVENT
DTSTART;TZID=Europe/Berlin:20250527T080000
DTEND;TZID=Europe/Berlin:20250527T170000
DTSTAMP:20260422T235037
CREATED:20250527T072607Z
LAST-MODIFIED:20250527T072607Z
UID:4456-1748332800-1748365200@hauspeters.info
SUMMARY:Lesung mit Musik: Reisegeschichten mit Harfenbegleitung
DESCRIPTION:Zur Finissage der Pop-up-Ausstellung mit Bildern von Christine Wahn laden wir am Donnerstag den 5.6.25 um 15 Uhr zur Lesung mit Musik in den Museumsgarten: \n„Reisegeschichten mit Harfenklang“ – 7 Kurzgeschichten\, ergänzt von Eigenkompositionen und tranditionellen Weisen\, gespielt auf der keltischen Harfe. \nDie Journalistin und Autorin Karin Funke aus Büsum liest kurze Text aus ihren Büchern und wird begleitet von Angela Westphal aus Friedrichstadt auf ihrer Harfe.  \nBei einer Tasse Kaffee ist anschließend noch Zeit\, die Bilder von Christine Wahn im Haus Peters zu bewundern und zu erwerben sowie die Künstlerin persönlich zu treffen.
URL:https://hauspeters.info/event/lesung-mit-musik-reisegeschichten-mit-harfenbegleitung/
LOCATION:Garten Haus Peters\, Dörpstraat 16\, Tetenbüll\, 25882\, Deutschland
CATEGORIES:Lesung,Musikveranstaltung
ATTACH;FMTTYPE=image/jpeg:https://hauspeters.info/wp-content/uploads/2022/05/PHOTO-2022-05-26-11-56-27-3.jpg
ORGANIZER;CN="F%C3%B6rderverein Haus Peters Tetenb%C3%BCll e. V.":MAILTO:post@hauspeters.info
END:VEVENT
END:VCALENDAR